BEGIN:VCALENDAR
VERSION:2.0
PRODID:-//Plone.org//NONSGML plone.app.event//EN
X-WR-TIMEZONE:Europe/Berlin
BEGIN:VEVENT
SUMMARY:«Zuzenketa-lana: tipula zuritzen II» ikastaroa\, Bilbon
DTSTART;TZID=Europe/Berlin;VALUE=DATE-TIME:20230322T160000
DTEND;TZID=Europe/Berlin;VALUE=DATE-TIME:20230323T193000
DTSTAMP;VALUE=DATE-TIME:20260423T085031Z
UID:d838e480e77a4c5dbb6960645e56946c@eizieplone
CATEGORIES:Ikastaroak
CREATED;VALUE=DATE-TIME:20230307T095304Z
LAST-MODIFIED;VALUE=DATE-TIME:20260127T151908Z
LOCATION:Euskararen Etxea\, Bilbo
URL:https://eizie.eus/eu/agenda/zuzenketa-lana-tipula-zuritzen-ii-ikastaro
 a-bilbon
END:VEVENT
BEGIN:VTIMEZONE
TZID:Europe/Berlin
X-LIC-LOCATION:Europe/Berlin
BEGIN:STANDARD
DTSTART;VALUE=DATE-TIME:20221030T020000
TZNAME:CET
TZOFFSETFROM:+0200
TZOFFSETTO:+0100
END:STANDARD
END:VTIMEZONE
END:VCALENDAR
