BEGIN:VCALENDAR
VERSION:2.0
PRODID:-//Plone.org//NONSGML plone.app.event//EN
X-WR-TIMEZONE:Europe/Berlin
BEGIN:VEVENT
SUMMARY:'Zazpigarren gizona: Europako langile mingranteen bizipenak irudi
 z eta hitzez' (John Berger eta Jea Mohr)\, Tabakaleran
DTSTART;TZID=Europe/Berlin;VALUE=DATE-TIME:20260422T190000
DTSTAMP;VALUE=DATE-TIME:20260422T163315Z
UID:6028979cf1e840eeb0b9a3cbb269a1eb@eizieplone
CATEGORIES:Ekitaldiak
CREATED;VALUE=DATE-TIME:20260422T095540Z
LAST-MODIFIED;VALUE=DATE-TIME:20260422T095547Z
LOCATION:1 aretoa
URL:https://eizie.eus/eu/agenda/zazpigarren-gizona-europako-langile-mingra
 nteen-bizipenak-irudiz-eta-hitzez-john-berger-eta-jea-mohr-tabakaleran
END:VEVENT
BEGIN:VTIMEZONE
TZID:Europe/Berlin
X-LIC-LOCATION:Europe/Berlin
BEGIN:DAYLIGHT
DTSTART;VALUE=DATE-TIME:20260329T030000
TZNAME:CEST
TZOFFSETFROM:+0100
TZOFFSETTO:+0200
END:DAYLIGHT
END:VTIMEZONE
END:VCALENDAR
