BEGIN:VCALENDAR
VERSION:2.0
PRODID:-//Plone.org//NONSGML plone.app.event//EN
X-WR-TIMEZONE:Europe/Berlin
BEGIN:VEVENT
SUMMARY:Yukio Mishimaren 'Maskara baten aitortza'\, Iruñean
DTSTART;TZID=Europe/Berlin;VALUE=DATE-TIME:20240620T190000
DTSTAMP;VALUE=DATE-TIME:20260425T204911Z
UID:4e90f55b535c45ada08c5d69d32add0c@eizievarnish
CATEGORIES:Irakurle taldeak
CREATED;VALUE=DATE-TIME:20240620T135738Z
LAST-MODIFIED;VALUE=DATE-TIME:20240620T135845Z
LOCATION:Katakrak liburu-denda\, Iruñea
URL:https://eizie.eus/eu/agenda/yukio-mishimaren-maskara-baten-aitortza-ir
 unean
END:VEVENT
BEGIN:VTIMEZONE
TZID:Europe/Berlin
X-LIC-LOCATION:Europe/Berlin
BEGIN:DAYLIGHT
DTSTART;VALUE=DATE-TIME:20240331T030000
TZNAME:CEST
TZOFFSETFROM:+0100
TZOFFSETTO:+0200
END:DAYLIGHT
END:VTIMEZONE
END:VCALENDAR
