BEGIN:VCALENDAR
VERSION:2.0
PRODID:-//Plone.org//NONSGML plone.app.event//EN
X-WR-TIMEZONE:Europe/Berlin
BEGIN:VEVENT
SUMMARY:Yukio Mishimaren 'Maskara baten aitortza' - Aurkezpena\, Donostian
DTSTART;TZID=Europe/Berlin;VALUE=DATE-TIME:20230627T110000
DTSTAMP;VALUE=DATE-TIME:20260425T130149Z
UID:eafd7c2ac9bc4ec3833be8970520e6db@eizievarnish
CATEGORIES:Ekitaldiak
CREATED;VALUE=DATE-TIME:20230620T111414Z
LAST-MODIFIED;VALUE=DATE-TIME:20230620T111510Z
LOCATION:Donostiako udaletxe zaharra
URL:https://eizie.eus/eu/agenda/yukio-mishimaren-maskara-baten-aitortza-au
 rkezpena-donostian
END:VEVENT
BEGIN:VTIMEZONE
TZID:Europe/Berlin
X-LIC-LOCATION:Europe/Berlin
BEGIN:DAYLIGHT
DTSTART;VALUE=DATE-TIME:20230326T030000
TZNAME:CEST
TZOFFSETFROM:+0100
TZOFFSETTO:+0200
END:DAYLIGHT
END:VTIMEZONE
END:VCALENDAR
