BEGIN:VCALENDAR
VERSION:2.0
PRODID:-//Plone.org//NONSGML plone.app.event//EN
X-WR-TIMEZONE:Europe/Berlin
BEGIN:VEVENT
SUMMARY:W. G. Sebalden 'Austerlitz'\, Zumaian
DTSTART;TZID=Europe/Berlin;VALUE=DATE-TIME:20240530T183000
DTSTAMP;VALUE=DATE-TIME:20260425T204700Z
UID:9ed637a52a6f470a9bf75a1cc463b305@eizievarnish
CATEGORIES:Irakurle taldeak
CREATED;VALUE=DATE-TIME:20240527T105509Z
LAST-MODIFIED;VALUE=DATE-TIME:20240527T105513Z
LOCATION:Alondegiko Moila gela
URL:https://eizie.eus/eu/agenda/w-g-sebalden-austerlitz-zumaian
END:VEVENT
BEGIN:VTIMEZONE
TZID:Europe/Berlin
X-LIC-LOCATION:Europe/Berlin
BEGIN:DAYLIGHT
DTSTART;VALUE=DATE-TIME:20240331T030000
TZNAME:CEST
TZOFFSETFROM:+0100
TZOFFSETTO:+0200
END:DAYLIGHT
END:VTIMEZONE
END:VCALENDAR
