BEGIN:VCALENDAR
VERSION:2.0
PRODID:-//Plone.org//NONSGML plone.app.event//EN
X-WR-TIMEZONE:Europe/Berlin
BEGIN:VEVENT
SUMMARY:W. G. Sebald-en 'Austerlitz'\, Ean
DTSTART;TZID=Europe/Berlin;VALUE=DATE-TIME:20220729T193000
DTSTAMP;VALUE=DATE-TIME:20260425T035655Z
UID:3b21a52422984bf3848c37c1435f59b2@eizievarnish
CATEGORIES:Irakurle taldeak
CREATED;VALUE=DATE-TIME:20220722T122848Z
LAST-MODIFIED;VALUE=DATE-TIME:20220722T122900Z
LOCATION:Eskalondo (Ea)
URL:https://eizie.eus/eu/agenda/w-g-sebald-en-austerlitz-ean
END:VEVENT
BEGIN:VTIMEZONE
TZID:Europe/Berlin
X-LIC-LOCATION:Europe/Berlin
BEGIN:DAYLIGHT
DTSTART;VALUE=DATE-TIME:20220327T030000
TZNAME:CEST
TZOFFSETFROM:+0100
TZOFFSETTO:+0200
END:DAYLIGHT
END:VTIMEZONE
END:VCALENDAR
