BEGIN:VCALENDAR
VERSION:2.0
PRODID:-//Plone.org//NONSGML plone.app.event//EN
X-WR-TIMEZONE:Europe/Berlin
BEGIN:VEVENT
SUMMARY:Taylor Jenkins Reid-en 'Evelyn Hugoren zazpi senarrak'\, aurkezpen
 a Donostian
DTSTART;TZID=Europe/Berlin;VALUE=DATE-TIME:20250623T103000
DTSTAMP;VALUE=DATE-TIME:20260425T205858Z
UID:7b456992d3974a518c4e2774e29907cd@eizievarnish
CATEGORIES:Ekitaldiak
CREATED;VALUE=DATE-TIME:20250617T113946Z
LAST-MODIFIED;VALUE=DATE-TIME:20250617T114146Z
LOCATION:Donostiako Udal Liburutegia
URL:https://eizie.eus/eu/agenda/taylor-jenkins-reid-en-evelyn-hugoren-zazp
 i-senarrak-aurkezpena-donostian
END:VEVENT
BEGIN:VTIMEZONE
TZID:Europe/Berlin
X-LIC-LOCATION:Europe/Berlin
BEGIN:DAYLIGHT
DTSTART;VALUE=DATE-TIME:20250330T030000
TZNAME:CEST
TZOFFSETFROM:+0100
TZOFFSETTO:+0200
END:DAYLIGHT
END:VTIMEZONE
END:VCALENDAR
