BEGIN:VCALENDAR
VERSION:2.0
PRODID:-//Plone.org//NONSGML plone.app.event//EN
X-WR-TIMEZONE:Europe/Berlin
BEGIN:VEVENT
SUMMARY:Solasaldi Literario Dialogikoak: Saforen 'Poesia guztia' - Online
DTSTART;TZID=Europe/Berlin;VALUE=DATE-TIME:20230628T190000
DTEND;TZID=Europe/Berlin;VALUE=DATE-TIME:20230628T200000
DTSTAMP;VALUE=DATE-TIME:20260425T125947Z
UID:89402c9200684f0f98f84ee2a1ac9dd4@eizievarnish
CATEGORIES:Ekitaldiak
CREATED;VALUE=DATE-TIME:20230615T071205Z
LAST-MODIFIED;VALUE=DATE-TIME:20230615T071442Z
LOCATION:Online
URL:https://eizie.eus/eu/agenda/solasaldi-literario-dialogikoak-saforen-po
 esia-guztia
END:VEVENT
BEGIN:VTIMEZONE
TZID:Europe/Berlin
X-LIC-LOCATION:Europe/Berlin
BEGIN:DAYLIGHT
DTSTART;VALUE=DATE-TIME:20230326T030000
TZNAME:CEST
TZOFFSETFROM:+0100
TZOFFSETTO:+0200
END:DAYLIGHT
END:VTIMEZONE
END:VCALENDAR
