BEGIN:VCALENDAR
VERSION:2.0
PRODID:-//Plone.org//NONSGML plone.app.event//EN
X-WR-TIMEZONE:Europe/Berlin
BEGIN:VEVENT
SUMMARY:Sherwood Andersonen 'Winesburg\, Ohio'\, Donostian
DTSTART;TZID=Europe/Berlin;VALUE=DATE-TIME:20230606T190000
DTSTAMP;VALUE=DATE-TIME:20260425T130003Z
UID:3d79110b4baa4edc828fe5f20eab16e5@eizievarnish
CATEGORIES:Literatura unibertsala,Irakurle taldeak
CREATED;VALUE=DATE-TIME:20230605T081025Z
LAST-MODIFIED;VALUE=DATE-TIME:20230605T081048Z
LOCATION:Liburutegi Nagusia\, Konstituzio plaza\, Donostia
URL:https://eizie.eus/eu/agenda/sherwood-andersonen-winesburg-ohio-donosti
 an
END:VEVENT
BEGIN:VTIMEZONE
TZID:Europe/Berlin
X-LIC-LOCATION:Europe/Berlin
BEGIN:DAYLIGHT
DTSTART;VALUE=DATE-TIME:20230326T030000
TZNAME:CEST
TZOFFSETFROM:+0100
TZOFFSETTO:+0200
END:DAYLIGHT
END:VTIMEZONE
END:VCALENDAR
