BEGIN:VCALENDAR
VERSION:2.0
PRODID:-//Plone.org//NONSGML plone.app.event//EN
X-WR-TIMEZONE:Europe/Berlin
BEGIN:VEVENT
SUMMARY:'Rosa Parks. Nire istorioa' liburuaren aurkezpena
DTSTART;TZID=Europe/Berlin;VALUE=DATE-TIME:20250930T103000
DTSTAMP;VALUE=DATE-TIME:20260425T204741Z
UID:a4165bb7be4e421a9bec561b8afcc486@eizievarnish
CATEGORIES:Ekitaldiak
CREATED;VALUE=DATE-TIME:20250925T075944Z
LAST-MODIFIED;VALUE=DATE-TIME:20250925T075948Z
LOCATION:Donostiako Liburutegi Nagusia
URL:https://eizie.eus/eu/agenda/rosa-parks-nire-istorioa-liburuaren-aurkez
 pena
END:VEVENT
BEGIN:VTIMEZONE
TZID:Europe/Berlin
X-LIC-LOCATION:Europe/Berlin
BEGIN:DAYLIGHT
DTSTART;VALUE=DATE-TIME:20250330T030000
TZNAME:CEST
TZOFFSETFROM:+0100
TZOFFSETTO:+0200
END:DAYLIGHT
END:VTIMEZONE
END:VCALENDAR
