BEGIN:VCALENDAR
VERSION:2.0
PRODID:-//Plone.org//NONSGML plone.app.event//EN
X-WR-TIMEZONE:Europe/Berlin
BEGIN:VEVENT
SUMMARY:Rashid Khalidiren 'Ehun urteko gerra Palestinaren aurka'\, Iruñea
 n
DTSTART;TZID=Europe/Berlin;VALUE=DATE-TIME:20250530T190000
DTSTAMP;VALUE=DATE-TIME:20260425T205035Z
UID:0bf363087cae47b08b999ee3bdf44a5c@eizievarnish
CATEGORIES:Irakurle taldeak
CREATED;VALUE=DATE-TIME:20250509T105724Z
LAST-MODIFIED;VALUE=DATE-TIME:20250515T145240Z
LOCATION:Katakrak liburu-denda\, Iruñea
URL:https://eizie.eus/eu/agenda/rashid-khalidiren-ehun-urteko-gerra-palest
 inaren-aurka-irunean
END:VEVENT
BEGIN:VTIMEZONE
TZID:Europe/Berlin
X-LIC-LOCATION:Europe/Berlin
BEGIN:DAYLIGHT
DTSTART;VALUE=DATE-TIME:20250330T030000
TZNAME:CEST
TZOFFSETFROM:+0100
TZOFFSETTO:+0200
END:DAYLIGHT
END:VTIMEZONE
END:VCALENDAR
