BEGIN:VCALENDAR
VERSION:2.0
PRODID:-//Plone.org//NONSGML plone.app.event//EN
X-WR-TIMEZONE:Europe/Berlin
BEGIN:VEVENT
SUMMARY:Rashid Khalidiren 'Ehun urteko gerra Palestinaren aurka' - Aurkezp
 ena
DTSTART;TZID=Europe/Berlin;VALUE=DATE-TIME:20240619T113000
DTSTAMP;VALUE=DATE-TIME:20260425T205216Z
UID:76c7dac7f403484c9973428c91189dd4@eizievarnish
CATEGORIES:Ekitaldiak
CREATED;VALUE=DATE-TIME:20240619T080439Z
LAST-MODIFIED;VALUE=DATE-TIME:20240619T081035Z
LOCATION:Donostiako Liburutegi Nagusia
URL:https://eizie.eus/eu/agenda/rashid-khalidiren-ehun-urteko-gerra-palest
 inaren-aurka-aurkezpena
END:VEVENT
BEGIN:VTIMEZONE
TZID:Europe/Berlin
X-LIC-LOCATION:Europe/Berlin
BEGIN:DAYLIGHT
DTSTART;VALUE=DATE-TIME:20240331T030000
TZNAME:CEST
TZOFFSETFROM:+0100
TZOFFSETTO:+0200
END:DAYLIGHT
END:VTIMEZONE
END:VCALENDAR
