BEGIN:VCALENDAR
VERSION:2.0
PRODID:-//Plone.org//NONSGML plone.app.event//EN
X-WR-TIMEZONE:Europe/Berlin
BEGIN:VEVENT
SUMMARY:Rashid Khalidiren 'Ehun urteko gerra Palestinaren aurka' - Aurkezp
 ena\, Elizondon
DTSTART;TZID=Europe/Berlin;VALUE=DATE-TIME:20250703T193000
DTSTAMP;VALUE=DATE-TIME:20260425T205807Z
UID:9ca5ae4b3134454686473a23507d8272@eizievarnish
CATEGORIES:Ekitaldiak
CREATED;VALUE=DATE-TIME:20250630T081605Z
LAST-MODIFIED;VALUE=DATE-TIME:20250630T081614Z
LOCATION:Fantxikeko plaza
URL:https://eizie.eus/eu/agenda/rashid-khalidiren-ehun-urteko-gerra-palest
 inaren-aurka-aurkezpena-elizondon
END:VEVENT
BEGIN:VTIMEZONE
TZID:Europe/Berlin
X-LIC-LOCATION:Europe/Berlin
BEGIN:DAYLIGHT
DTSTART;VALUE=DATE-TIME:20250330T030000
TZNAME:CEST
TZOFFSETFROM:+0100
TZOFFSETTO:+0200
END:DAYLIGHT
END:VTIMEZONE
END:VCALENDAR
