BEGIN:VCALENDAR
VERSION:2.0
PRODID:-//Plone.org//NONSGML plone.app.event//EN
X-WR-TIMEZONE:Europe/Berlin
BEGIN:VEVENT
SUMMARY:Rashid Khalidiren 'Ehun urteko gerra Palestinaren aurka' - Aurkezp
 ena
DTSTART;TZID=Europe/Berlin;VALUE=DATE-TIME:20241010T190000
DTSTAMP;VALUE=DATE-TIME:20260423T192245Z
UID:fa9ea1e645e348c3b51628818aab2221@eizieplone
CATEGORIES:Ekitaldiak
CREATED;VALUE=DATE-TIME:20241007T104755Z
LAST-MODIFIED;VALUE=DATE-TIME:20241007T104810Z
LOCATION:Altzania elkartea (Altza\, Donostia)
URL:https://eizie.eus/eu/agenda/rashid-khalidiren-ehun-urteko-gerra-palest
 inaren-aurka-aurkezpena-1
END:VEVENT
BEGIN:VTIMEZONE
TZID:Europe/Berlin
X-LIC-LOCATION:Europe/Berlin
BEGIN:DAYLIGHT
DTSTART;VALUE=DATE-TIME:20240331T030000
TZNAME:CEST
TZOFFSETFROM:+0100
TZOFFSETTO:+0200
END:DAYLIGHT
END:VTIMEZONE
END:VCALENDAR
