BEGIN:VCALENDAR
VERSION:2.0
PRODID:-//Plone.org//NONSGML plone.app.event//EN
X-WR-TIMEZONE:Europe/Berlin
BEGIN:VEVENT
SUMMARY:'Poesia mailu bat da' jaialdia - Itzulpen tailerra
DTSTART;TZID=Europe/Berlin;VALUE=DATE-TIME:20240606T113000
DTSTAMP;VALUE=DATE-TIME:20260425T204742Z
UID:1820663a28604e8e8b390900e1990d72@eizievarnish
CATEGORIES:Ekitaldiak
CREATED;VALUE=DATE-TIME:20240604T132642Z
LAST-MODIFIED;VALUE=DATE-TIME:20240604T132708Z
LOCATION:Gaztetxea\, Gasteiz
URL:https://eizie.eus/eu/agenda/poesia-mailu-bat-da-jaialdia-itzulpen-tail
 erra
END:VEVENT
BEGIN:VTIMEZONE
TZID:Europe/Berlin
X-LIC-LOCATION:Europe/Berlin
BEGIN:DAYLIGHT
DTSTART;VALUE=DATE-TIME:20240331T030000
TZNAME:CEST
TZOFFSETFROM:+0100
TZOFFSETTO:+0200
END:DAYLIGHT
END:VTIMEZONE
END:VCALENDAR
