BEGIN:VCALENDAR
VERSION:2.0
PRODID:-//Plone.org//NONSGML plone.app.event//EN
X-WR-TIMEZONE:Europe/Berlin
BEGIN:VEVENT
SUMMARY:'Persepolis' eta 'Palestina' komikien aurkezpena\, Santutxun
DTSTART;TZID=Europe/Berlin;VALUE=DATE-TIME:20240614T190000
DTSTAMP;VALUE=DATE-TIME:20260425T205644Z
UID:76568068333d49d5aebeb83d7ef0067a@eizievarnish
CREATED;VALUE=DATE-TIME:20240614T080441Z
LAST-MODIFIED;VALUE=DATE-TIME:20240614T080454Z
LOCATION:KARMELA espazioa
URL:https://eizie.eus/eu/agenda/persepolis-eta-palestina-komikien-aurkezpe
 na-santutxun
END:VEVENT
BEGIN:VTIMEZONE
TZID:Europe/Berlin
X-LIC-LOCATION:Europe/Berlin
BEGIN:DAYLIGHT
DTSTART;VALUE=DATE-TIME:20240331T030000
TZNAME:CEST
TZOFFSETFROM:+0100
TZOFFSETTO:+0200
END:DAYLIGHT
END:VTIMEZONE
END:VCALENDAR
