BEGIN:VCALENDAR
VERSION:2.0
PRODID:-//Plone.org//NONSGML plone.app.event//EN
X-WR-TIMEZONE:Europe/Berlin
BEGIN:VEVENT
SUMMARY:Paul Mattick-en 'Marx eta Keynes. Ekonomia mistoaren krisia' libur
 uaren aurkezpena
DTSTART;TZID=Europe/Berlin;VALUE=DATE-TIME:20250618T110000
DTSTAMP;VALUE=DATE-TIME:20260425T205807Z
UID:8391a81119e649f098f666a46f948e2b@eizievarnish
CATEGORIES:Ekitaldiak
CREATED;VALUE=DATE-TIME:20250617T081257Z
LAST-MODIFIED;VALUE=DATE-TIME:20250617T081306Z
LOCATION:Donostiako Liburutegi Nagusia
URL:https://eizie.eus/eu/agenda/paul-mattick-en-marx-eta-keynes-ekonomia-m
 istoaren-krisia-liburuaren-aurkezpena
END:VEVENT
BEGIN:VTIMEZONE
TZID:Europe/Berlin
X-LIC-LOCATION:Europe/Berlin
BEGIN:DAYLIGHT
DTSTART;VALUE=DATE-TIME:20250330T030000
TZNAME:CEST
TZOFFSETFROM:+0100
TZOFFSETTO:+0200
END:DAYLIGHT
END:VTIMEZONE
END:VCALENDAR
