BEGIN:VCALENDAR
VERSION:2.0
PRODID:-//Plone.org//NONSGML plone.app.event//EN
X-WR-TIMEZONE:Europe/Berlin
BEGIN:VEVENT
SUMMARY:Paul Austerren 'Sunset Park'\, Leioan
DTSTART;TZID=Europe/Berlin;VALUE=DATE-TIME:20250522T180000
DTSTAMP;VALUE=DATE-TIME:20260425T204554Z
UID:8cc87886821a48d1810a231ad2fb498a@eizievarnish
CATEGORIES:Irakurle taldeak
CREATED;VALUE=DATE-TIME:20250509T105050Z
LAST-MODIFIED;VALUE=DATE-TIME:20250509T105054Z
LOCATION:Kultur Leioa
URL:https://eizie.eus/eu/agenda/paul-austerren-sunset-park-leioan
END:VEVENT
BEGIN:VTIMEZONE
TZID:Europe/Berlin
X-LIC-LOCATION:Europe/Berlin
BEGIN:DAYLIGHT
DTSTART;VALUE=DATE-TIME:20250330T030000
TZNAME:CEST
TZOFFSETFROM:+0100
TZOFFSETTO:+0200
END:DAYLIGHT
END:VTIMEZONE
END:VCALENDAR
