BEGIN:VCALENDAR
VERSION:2.0
PRODID:-//Plone.org//NONSGML plone.app.event//EN
X-WR-TIMEZONE:Europe/Berlin
BEGIN:VEVENT
SUMMARY:Olga Tokarczuk-en 'Erabili goldea hilen hezurren gainetik'\, Erron
 karin
DTSTART;TZID=Europe/Berlin;VALUE=DATE-TIME:20241128T170000
DTSTAMP;VALUE=DATE-TIME:20260425T190219Z
UID:1cf3d4fc3c6d45769a650894881b59f5@eizievarnish
CATEGORIES:Irakurle taldeak
CONTACT:Amaia Apalauza eta Sonia Kolaczek
CREATED;VALUE=DATE-TIME:20241125T104818Z
LAST-MODIFIED;VALUE=DATE-TIME:20241125T105131Z
LOCATION:Erronkaribarko Etxea
URL:https://eizie.eus/eu/agenda/olga-tokarczuk-en-erabili-goldea-hilen-hez
 urren-gainetik-erronkarin
END:VEVENT
BEGIN:VTIMEZONE
TZID:Europe/Berlin
X-LIC-LOCATION:Europe/Berlin
BEGIN:STANDARD
DTSTART;VALUE=DATE-TIME:20241027T020000
TZNAME:CET
TZOFFSETFROM:+0200
TZOFFSETTO:+0100
END:STANDARD
END:VTIMEZONE
END:VCALENDAR
