BEGIN:VCALENDAR
VERSION:2.0
PRODID:-//Plone.org//NONSGML plone.app.event//EN
X-WR-TIMEZONE:Europe/Berlin
BEGIN:VEVENT
SUMMARY:«Nola erabili corpusak modu eraginkorrago batean» ikastaroa\, Ga
 steizen
DTSTART;TZID=Europe/Berlin;VALUE=DATE-TIME:20240617T160000
DTEND;TZID=Europe/Berlin;VALUE=DATE-TIME:20240618T190000
DTSTAMP;VALUE=DATE-TIME:20260425T204842Z
UID:16a694e764514f24b71718e63e7476d4@eizievarnish
CATEGORIES:Ikastaroak
CREATED;VALUE=DATE-TIME:20240528T082611Z
LAST-MODIFIED;VALUE=DATE-TIME:20240528T082619Z
LOCATION:Euskaltzaindiaren egoitza (Gaztelako atea\, 54)
URL:https://eizie.eus/eu/agenda/nola-erabili-corpusak-modu-eraginkorrago-b
 atean-ikastaroa-gasteizen
END:VEVENT
BEGIN:VTIMEZONE
TZID:Europe/Berlin
X-LIC-LOCATION:Europe/Berlin
BEGIN:DAYLIGHT
DTSTART;VALUE=DATE-TIME:20240331T030000
TZNAME:CEST
TZOFFSETFROM:+0100
TZOFFSETTO:+0200
END:DAYLIGHT
END:VTIMEZONE
END:VCALENDAR
