BEGIN:VCALENDAR
VERSION:2.0
PRODID:-//Plone.org//NONSGML plone.app.event//EN
X-WR-TIMEZONE:Europe/Berlin
BEGIN:VEVENT
SUMMARY:'Neska baten memoria' (Annie Ernaux) eta 'Amok' (Stefan Zweig) lib
 uruen aurkezpena\, Donostian
DTSTART;TZID=Europe/Berlin;VALUE=DATE-TIME:20241113T103000
DTSTAMP;VALUE=DATE-TIME:20260425T190216Z
UID:716bf92fc901427ebcdc99175cb8943a@eizievarnish
CATEGORIES:Ekitaldiak
CREATED;VALUE=DATE-TIME:20241112T121655Z
LAST-MODIFIED;VALUE=DATE-TIME:20241112T121826Z
LOCATION:Donostiako Udal Liburutegia
URL:https://eizie.eus/eu/agenda/neska-baten-memoria-annie-ernaux-eta-amok-
 stefan-zweig-liburuen-aurkezpena-donostian
END:VEVENT
BEGIN:VTIMEZONE
TZID:Europe/Berlin
X-LIC-LOCATION:Europe/Berlin
BEGIN:STANDARD
DTSTART;VALUE=DATE-TIME:20241027T020000
TZNAME:CET
TZOFFSETFROM:+0200
TZOFFSETTO:+0100
END:STANDARD
END:VTIMEZONE
END:VCALENDAR
