BEGIN:VCALENDAR
VERSION:2.0
PRODID:-//Plone.org//NONSGML plone.app.event//EN
X-WR-TIMEZONE:Europe/Berlin
BEGIN:VEVENT
SUMMARY:Nell Leyshonen 'Esnearen kolorekoa'\, Abadiñon
DTSTART;TZID=Europe/Berlin;VALUE=DATE-TIME:20241008T190000
DTSTAMP;VALUE=DATE-TIME:20260423T190148Z
UID:733cea51dffa4058b82d62f84fda72bd@eizieplone
CATEGORIES:Irakurle taldeak
CREATED;VALUE=DATE-TIME:20241007T103407Z
LAST-MODIFIED;VALUE=DATE-TIME:20241007T103413Z
LOCATION:Errota kultur etxea
URL:https://eizie.eus/eu/agenda/nell-leyshonen-esnearen-kolorekoa-abadinon
END:VEVENT
BEGIN:VTIMEZONE
TZID:Europe/Berlin
X-LIC-LOCATION:Europe/Berlin
BEGIN:DAYLIGHT
DTSTART;VALUE=DATE-TIME:20240331T030000
TZNAME:CEST
TZOFFSETFROM:+0100
TZOFFSETTO:+0200
END:DAYLIGHT
END:VTIMEZONE
END:VCALENDAR
