BEGIN:VCALENDAR
VERSION:2.0
PRODID:-//Plone.org//NONSGML plone.app.event//EN
X-WR-TIMEZONE:Europe/Berlin
BEGIN:VEVENT
SUMMARY:Nadezhda Krupskayaren 'Herriaren hezkuntza eta demokrazia'\, Iruñ
 ean
DTSTART;TZID=Europe/Berlin;VALUE=DATE-TIME:20240610T190000
DTSTAMP;VALUE=DATE-TIME:20260425T205858Z
UID:2f02b722b1d74cabb5977044502fcfcd@eizievarnish
CATEGORIES:Ekitaldiak
CREATED;VALUE=DATE-TIME:20240607T113539Z
LAST-MODIFIED;VALUE=DATE-TIME:20240607T113544Z
LOCATION:Katakrak liburu-denda\, Iruñea
URL:https://eizie.eus/eu/agenda/nadezhda-krupskayaren-herriaren-hezkuntza-
 eta-demokrazia-irunean
END:VEVENT
BEGIN:VTIMEZONE
TZID:Europe/Berlin
X-LIC-LOCATION:Europe/Berlin
BEGIN:DAYLIGHT
DTSTART;VALUE=DATE-TIME:20240331T030000
TZNAME:CEST
TZOFFSETFROM:+0100
TZOFFSETTO:+0200
END:DAYLIGHT
END:VTIMEZONE
END:VCALENDAR
