BEGIN:VCALENDAR
VERSION:2.0
PRODID:-//Plone.org//NONSGML plone.app.event//EN
X-WR-TIMEZONE:Europe/Berlin
BEGIN:VEVENT
SUMMARY:'Munduko poeta emakumezkoak: errezitaldi bat'\, Zarautzen
DTSTART;TZID=Europe/Berlin;VALUE=DATE-TIME:20241121T183000
DTSTAMP;VALUE=DATE-TIME:20260425T190054Z
UID:d51d677ccc6c4e14970b6e3c2048ca95@eizievarnish
CATEGORIES:Ekitaldiak
CREATED;VALUE=DATE-TIME:20241119T091734Z
LAST-MODIFIED;VALUE=DATE-TIME:20241119T091747Z
LOCATION:Garoa liburu-denda
URL:https://eizie.eus/eu/agenda/munduko-poeta-emakumezkoak-errezitaldi-bat
 -zarautzen
END:VEVENT
BEGIN:VTIMEZONE
TZID:Europe/Berlin
X-LIC-LOCATION:Europe/Berlin
BEGIN:STANDARD
DTSTART;VALUE=DATE-TIME:20241027T020000
TZNAME:CET
TZOFFSETFROM:+0200
TZOFFSETTO:+0100
END:STANDARD
END:VTIMEZONE
END:VCALENDAR
