BEGIN:VCALENDAR
VERSION:2.0
PRODID:-//Plone.org//NONSGML plone.app.event//EN
X-WR-TIMEZONE:Europe/Berlin
BEGIN:VEVENT
SUMMARY:'Munduko poeta emakumezkoak' errezitala\, Gasteizen
DTSTART;TZID=Europe/Berlin;VALUE=DATE-TIME:20241009T190000
DTSTAMP;VALUE=DATE-TIME:20260423T204407Z
UID:aed98cf5bc9c448d9ba14ad6d5b34f86@eizieplone
CATEGORIES:Ekitaldiak
CREATED;VALUE=DATE-TIME:20241008T112758Z
LAST-MODIFIED;VALUE=DATE-TIME:20241008T112804Z
LOCATION:Eva Forest liburutopia\, Gasteiz
URL:https://eizie.eus/eu/agenda/munduko-poeta-emakumezkoak-errezitala-gast
 eizen
END:VEVENT
BEGIN:VTIMEZONE
TZID:Europe/Berlin
X-LIC-LOCATION:Europe/Berlin
BEGIN:DAYLIGHT
DTSTART;VALUE=DATE-TIME:20240331T030000
TZNAME:CEST
TZOFFSETFROM:+0100
TZOFFSETTO:+0200
END:DAYLIGHT
END:VTIMEZONE
END:VCALENDAR
