BEGIN:VCALENDAR
VERSION:2.0
PRODID:-//Plone.org//NONSGML plone.app.event//EN
X-WR-TIMEZONE:Europe/Berlin
BEGIN:VEVENT
SUMMARY:Munduko poeta Emakumezkoak: Errezital bat
DTSTART;TZID=Europe/Berlin;VALUE=DATE-TIME:20240920T190000
DTSTAMP;VALUE=DATE-TIME:20260423T190946Z
UID:096dfb64962a4a1c8f26ce6172631474@eizieplone
CATEGORIES:Ekitaldiak
CREATED;VALUE=DATE-TIME:20240918T100351Z
LAST-MODIFIED;VALUE=DATE-TIME:20240918T100358Z
LOCATION:BIRA Kultura\, Bilbo
URL:https://eizie.eus/eu/agenda/munduko-poeta-emakumezkoak-errezital-bat
END:VEVENT
BEGIN:VTIMEZONE
TZID:Europe/Berlin
X-LIC-LOCATION:Europe/Berlin
BEGIN:DAYLIGHT
DTSTART;VALUE=DATE-TIME:20240331T030000
TZNAME:CEST
TZOFFSETFROM:+0100
TZOFFSETTO:+0200
END:DAYLIGHT
END:VTIMEZONE
END:VCALENDAR
