BEGIN:VCALENDAR
VERSION:2.0
PRODID:-//Plone.org//NONSGML plone.app.event//EN
X-WR-TIMEZONE:Europe/Berlin
BEGIN:VEVENT
SUMMARY:Munduko Poesia Kaierak bildumako poemen irakurraldia\, Itsasun
DTSTART;TZID=Europe/Berlin;VALUE=DATE-TIME:20240928T163000
DTSTAMP;VALUE=DATE-TIME:20260423T205747Z
UID:bfde882afec44b7897614f4de454a283@eizieplone
CATEGORIES:Ekitaldiak
CREATED;VALUE=DATE-TIME:20240926T133744Z
LAST-MODIFIED;VALUE=DATE-TIME:20240926T133803Z
LOCATION:Itsasuko plaza
URL:https://eizie.eus/eu/agenda/munduko-poesia-kaierak-bildumako-poemen-ir
 akurraldia-itsasun
END:VEVENT
BEGIN:VTIMEZONE
TZID:Europe/Berlin
X-LIC-LOCATION:Europe/Berlin
BEGIN:DAYLIGHT
DTSTART;VALUE=DATE-TIME:20240331T030000
TZNAME:CEST
TZOFFSETFROM:+0100
TZOFFSETTO:+0200
END:DAYLIGHT
END:VTIMEZONE
END:VCALENDAR
