BEGIN:VCALENDAR
VERSION:2.0
PRODID:-//Plone.org//NONSGML plone.app.event//EN
X-WR-TIMEZONE:Europe/Berlin
BEGIN:VEVENT
SUMMARY:Munduko Poesia Kaierak & APOA\, irakurraldia Azpeitian
DTSTART;TZID=Europe/Berlin;VALUE=DATE-TIME:20241027T180000
DTSTAMP;VALUE=DATE-TIME:20260425T190045Z
UID:4a395c2dcd814989b47ec2ac962157ff@eizievarnish
CATEGORIES:Ekitaldiak
CREATED;VALUE=DATE-TIME:20241022T082522Z
LAST-MODIFIED;VALUE=DATE-TIME:20241022T082536Z
LOCATION:San Agustin Kulturgunea
URL:https://eizie.eus/eu/agenda/munduko-poesia-kaierak-apoa-irakurraldia-a
 zpeitian
END:VEVENT
BEGIN:VTIMEZONE
TZID:Europe/Berlin
X-LIC-LOCATION:Europe/Berlin
BEGIN:STANDARD
DTSTART;VALUE=DATE-TIME:20241027T020000
TZNAME:CET
TZOFFSETFROM:+0200
TZOFFSETTO:+0100
END:STANDARD
END:VTIMEZONE
END:VCALENDAR
