BEGIN:VCALENDAR
VERSION:2.0
PRODID:-//Plone.org//NONSGML plone.app.event//EN
X-WR-TIMEZONE:Europe/Berlin
BEGIN:VEVENT
SUMMARY:Munduko Poesia Kaiera - Hiru antologiaren aurkezpena
DTSTART;TZID=Europe/Berlin;VALUE=DATE-TIME:20241212T113000
DTSTAMP;VALUE=DATE-TIME:20260425T190105Z
UID:f9b3c983bd5b4e6ab617029657dd167f@eizievarnish
CATEGORIES:Ekitaldiak
CREATED;VALUE=DATE-TIME:20241210T090051Z
LAST-MODIFIED;VALUE=DATE-TIME:20241210T090136Z
LOCATION:Donostiako Konstituzio plazako Mandasko Dukearen aretoa
URL:https://eizie.eus/eu/agenda/munduko-poesia-kaiera-hiru-antologiaren-au
 rkezpena
END:VEVENT
BEGIN:VTIMEZONE
TZID:Europe/Berlin
X-LIC-LOCATION:Europe/Berlin
BEGIN:STANDARD
DTSTART;VALUE=DATE-TIME:20241027T020000
TZNAME:CET
TZOFFSETFROM:+0200
TZOFFSETTO:+0100
END:STANDARD
END:VTIMEZONE
END:VCALENDAR
