BEGIN:VCALENDAR
VERSION:2.0
PRODID:-//Plone.org//NONSGML plone.app.event//EN
X-WR-TIMEZONE:Europe/Berlin
BEGIN:VEVENT
SUMMARY:MPK: Oscar Milosz eta Frank O'Hara - Antologien aurkezpena Iruñea
 n
DTSTART;TZID=Europe/Berlin;VALUE=DATE-TIME:20250605T120000
DTSTAMP;VALUE=DATE-TIME:20260425T205720Z
UID:d8ddedd29be94cb08e17e957ab9dff37@eizievarnish
CATEGORIES:Ekitaldiak
CREATED;VALUE=DATE-TIME:20250602T084408Z
LAST-MODIFIED;VALUE=DATE-TIME:20250602T084412Z
LOCATION:Karrikiri elkartea\, Iruñea
URL:https://eizie.eus/eu/agenda/mpk-oscar-milosz-eta-frank-ohara-antologie
 n-aurkezpena-irunean
END:VEVENT
BEGIN:VTIMEZONE
TZID:Europe/Berlin
X-LIC-LOCATION:Europe/Berlin
BEGIN:DAYLIGHT
DTSTART;VALUE=DATE-TIME:20250330T030000
TZNAME:CEST
TZOFFSETFROM:+0100
TZOFFSETTO:+0200
END:DAYLIGHT
END:VTIMEZONE
END:VCALENDAR
