BEGIN:VCALENDAR
VERSION:2.0
PRODID:-//Plone.org//NONSGML plone.app.event//EN
X-WR-TIMEZONE:Europe/Berlin
BEGIN:VEVENT
SUMMARY:Montserrat Roigen 'Gerezi-denbora'\, Donostian
DTSTART;TZID=Europe/Berlin;VALUE=DATE-TIME:20240911T190000
DTSTAMP;VALUE=DATE-TIME:20260423T190113Z
UID:d8fd3fb972fc475b99b30050ec537f02@eizieplone
CATEGORIES:Irakurle taldeak
CREATED;VALUE=DATE-TIME:20240904T080120Z
LAST-MODIFIED;VALUE=DATE-TIME:20240904T080134Z
LOCATION:Donostiako Liburutegi Nagusia (San Jeronimo)
URL:https://eizie.eus/eu/agenda/montserrat-roigen-gerezi-denbora-donostian
END:VEVENT
BEGIN:VTIMEZONE
TZID:Europe/Berlin
X-LIC-LOCATION:Europe/Berlin
BEGIN:DAYLIGHT
DTSTART;VALUE=DATE-TIME:20240331T030000
TZNAME:CEST
TZOFFSETFROM:+0100
TZOFFSETTO:+0200
END:DAYLIGHT
END:VTIMEZONE
END:VCALENDAR
