BEGIN:VCALENDAR
VERSION:2.0
PRODID:-//Plone.org//NONSGML plone.app.event//EN
X-WR-TIMEZONE:Europe/Berlin
BEGIN:VEVENT
SUMMARY:Mohammed el-Kurden 'Rifqa'\, Iruñean
DTSTART;TZID=Europe/Berlin;VALUE=DATE-TIME:20250110T190000
DTSTAMP;VALUE=DATE-TIME:20260425T185707Z
UID:2f4b7ce5267641d1bd209120ec4d8d0b@eizievarnish
CATEGORIES:Irakurle taldeak
CREATED;VALUE=DATE-TIME:20241226T103730Z
LAST-MODIFIED;VALUE=DATE-TIME:20250107T104339Z
LOCATION:Katakrak liburu-denda
URL:https://eizie.eus/eu/agenda/mohammed-el-kurden-rifqa-irunean
END:VEVENT
BEGIN:VTIMEZONE
TZID:Europe/Berlin
X-LIC-LOCATION:Europe/Berlin
BEGIN:STANDARD
DTSTART;VALUE=DATE-TIME:20241027T020000
TZNAME:CET
TZOFFSETFROM:+0200
TZOFFSETTO:+0100
END:STANDARD
END:VTIMEZONE
END:VCALENDAR
