BEGIN:VCALENDAR
VERSION:2.0
PRODID:-//Plone.org//NONSGML plone.app.event//EN
X-WR-TIMEZONE:Europe/Berlin
BEGIN:VEVENT
SUMMARY:Mohammed El-Kurd idazlearen 'Rifqa' - Liburuaren aurkezpena Ziburu
 ko Azokan
DTSTART;VALUE=DATE:20240531
DTEND;VALUE=DATE:20240601
DTSTAMP;VALUE=DATE-TIME:20260425T205216Z
UID:37dee73a1e814d3d883fbd60ffcad96d@eizievarnish
CATEGORIES:Ekitaldiak
CREATED;VALUE=DATE-TIME:20240531T113714Z
LAST-MODIFIED;VALUE=DATE-TIME:20240531T113725Z
LOCATION:Ziburuko Azoka
URL:https://eizie.eus/eu/agenda/mohammed-el-kurd-idazlearen-rifqa-liburuar
 en-aurkezpena-ziburuko-azokan
END:VEVENT
END:VCALENDAR
