BEGIN:VCALENDAR
VERSION:2.0
PRODID:-//Plone.org//NONSGML plone.app.event//EN
X-WR-TIMEZONE:Europe/Berlin
BEGIN:VEVENT
SUMMARY:Mohammed El-Kurd idazlearen 'Rifqa' - Liburuaren aurkezpena\, Dono
 stian
DTSTART;TZID=Europe/Berlin;VALUE=DATE-TIME:20240613T110000
DTSTAMP;VALUE=DATE-TIME:20260425T205043Z
UID:1bc5e6acc3894ea1b08487e9ef08216f@eizievarnish
CATEGORIES:Ekitaldiak
CREATED;VALUE=DATE-TIME:20240613T131020Z
LAST-MODIFIED;VALUE=DATE-TIME:20240613T131023Z
LOCATION:Plaza Berriko Liburutegia
URL:https://eizie.eus/eu/agenda/mohammed-el-kurd-idazlearen-rifqa-liburuar
 en-aurkezpena-donostian
END:VEVENT
BEGIN:VTIMEZONE
TZID:Europe/Berlin
X-LIC-LOCATION:Europe/Berlin
BEGIN:DAYLIGHT
DTSTART;VALUE=DATE-TIME:20240331T030000
TZNAME:CEST
TZOFFSETFROM:+0100
TZOFFSETTO:+0200
END:DAYLIGHT
END:VTIMEZONE
END:VCALENDAR
