BEGIN:VCALENDAR
VERSION:2.0
PRODID:-//Plone.org//NONSGML plone.app.event//EN
X-WR-TIMEZONE:Europe/Berlin
BEGIN:VEVENT
SUMMARY:Mohammed El-Kurd idazlearen 'Rifqa' - Liburuaren aurkezpena\, Dono
 stian
DTSTART;TZID=Europe/Berlin;VALUE=DATE-TIME:20240617T183000
DTSTAMP;VALUE=DATE-TIME:20260425T205217Z
UID:15e83682938746249370f51476ce5cbe@eizievarnish
CATEGORIES:Ekitaldiak
CREATED;VALUE=DATE-TIME:20240617T081421Z
LAST-MODIFIED;VALUE=DATE-TIME:20240617T081433Z
LOCATION:Kaxilda liburu-denda
URL:https://eizie.eus/eu/agenda/mohammed-el-kurd-idazlearen-rifqa-liburuar
 en-aurkezpena-donostian-1
END:VEVENT
BEGIN:VTIMEZONE
TZID:Europe/Berlin
X-LIC-LOCATION:Europe/Berlin
BEGIN:DAYLIGHT
DTSTART;VALUE=DATE-TIME:20240331T030000
TZNAME:CEST
TZOFFSETFROM:+0100
TZOFFSETTO:+0200
END:DAYLIGHT
END:VTIMEZONE
END:VCALENDAR
