BEGIN:VCALENDAR
VERSION:2.0
PRODID:-//Plone.org//NONSGML plone.app.event//EN
X-WR-TIMEZONE:Europe/Berlin
BEGIN:VEVENT
SUMMARY:Mohammed El-Kurd idazlearen 'Rifqa' - Errezitaldia\, EHZ jaialdian
DTSTART;TZID=Europe/Berlin;VALUE=DATE-TIME:20240629T123000
DTSTAMP;VALUE=DATE-TIME:20260425T205629Z
UID:865c8f515967461598a21d9218922bed@eizievarnish
CATEGORIES:Ekitaldiak
CREATED;VALUE=DATE-TIME:20240621T081528Z
LAST-MODIFIED;VALUE=DATE-TIME:20240621T081632Z
LOCATION:Arberatze-Zilhekoa
URL:https://eizie.eus/eu/agenda/mohammed-el-kurd-idazlearen-rifqa-errezita
 ldia-ehz-jaialdian
END:VEVENT
BEGIN:VTIMEZONE
TZID:Europe/Berlin
X-LIC-LOCATION:Europe/Berlin
BEGIN:DAYLIGHT
DTSTART;VALUE=DATE-TIME:20240331T030000
TZNAME:CEST
TZOFFSETFROM:+0100
TZOFFSETTO:+0200
END:DAYLIGHT
END:VTIMEZONE
END:VCALENDAR
