BEGIN:VCALENDAR
VERSION:2.0
PRODID:-//Plone.org//NONSGML plone.app.event//EN
X-WR-TIMEZONE:Europe/Berlin
BEGIN:VEVENT
SUMMARY:Mohammed El Kurd idazlearen poemak - Irakurraldia\, Azpeitia
DTSTART;TZID=Europe/Berlin;VALUE=DATE-TIME:20250720T120000
DTSTAMP;VALUE=DATE-TIME:20260425T204957Z
UID:603019b1a5f24ba7a396b0b4cf117e0f@eizievarnish
CATEGORIES:Ekitaldiak
CREATED;VALUE=DATE-TIME:20250707T142736Z
LAST-MODIFIED;VALUE=DATE-TIME:20250707T142744Z
LOCATION:San Agustin kulturgunea
URL:https://eizie.eus/eu/agenda/mohammed-el-kurd-idazlearen-poemak-irakurr
 aldia-azpeitia
END:VEVENT
BEGIN:VTIMEZONE
TZID:Europe/Berlin
X-LIC-LOCATION:Europe/Berlin
BEGIN:DAYLIGHT
DTSTART;VALUE=DATE-TIME:20250330T030000
TZNAME:CEST
TZOFFSETFROM:+0100
TZOFFSETTO:+0200
END:DAYLIGHT
END:VTIMEZONE
END:VCALENDAR
