BEGIN:VCALENDAR
VERSION:2.0
PRODID:-//Plone.org//NONSGML plone.app.event//EN
X-WR-TIMEZONE:Europe/Berlin
BEGIN:VEVENT
SUMMARY:Mohammed el-Kurd idazle palestinarraren 'Rifqa' poema-liburuaren e
 rrezitaldi musikatua
DTSTART;TZID=Europe/Berlin;VALUE=DATE-TIME:20241004T190000
DTSTAMP;VALUE=DATE-TIME:20260424T005340Z
UID:ac29abb2d559498c9a48b42608339f01@eizieplone
CREATED;VALUE=DATE-TIME:20241004T083850Z
LAST-MODIFIED;VALUE=DATE-TIME:20241004T083941Z
LOCATION:Donostiako Zentro Sozialista
URL:https://eizie.eus/eu/agenda/mohammed-el-kurd-idazle-palestinarraren-ri
 fqa-poema-liburuaren-errezitaldi-musikatua
END:VEVENT
BEGIN:VTIMEZONE
TZID:Europe/Berlin
X-LIC-LOCATION:Europe/Berlin
BEGIN:DAYLIGHT
DTSTART;VALUE=DATE-TIME:20240331T030000
TZNAME:CEST
TZOFFSETFROM:+0100
TZOFFSETTO:+0200
END:DAYLIGHT
END:VTIMEZONE
END:VCALENDAR
