BEGIN:VCALENDAR
VERSION:2.0
PRODID:-//Plone.org//NONSGML plone.app.event//EN
X-WR-TIMEZONE:Europe/Berlin
BEGIN:VEVENT
SUMMARY:Mohammed el-Kurd idazle palestinarraren 'Rifqa' poema-liburuaren e
 rrezitaldi musikatuak
DTSTART;TZID=Europe/Berlin;VALUE=DATE-TIME:20241106T193000
DTEND;TZID=Europe/Berlin;VALUE=DATE-TIME:20241113T203000
DTSTAMP;VALUE=DATE-TIME:20260425T190235Z
UID:f645118af20d426fbbbd1712e8a10262@eizievarnish
CATEGORIES:Ekitaldiak
CREATED;VALUE=DATE-TIME:20241104T152625Z
LAST-MODIFIED;VALUE=DATE-TIME:20241111T095050Z
LOCATION:Iruñea: Laba / Arrasate: Irati Taberna / Bilbo: Zirika
URL:https://eizie.eus/eu/agenda/mohammed-el-kurd-idazle-palestinarraren-ri
 fqa-poema-liburuaren-errezitaldi-musikatua-irunean
END:VEVENT
BEGIN:VTIMEZONE
TZID:Europe/Berlin
X-LIC-LOCATION:Europe/Berlin
BEGIN:STANDARD
DTSTART;VALUE=DATE-TIME:20241027T020000
TZNAME:CET
TZOFFSETFROM:+0200
TZOFFSETTO:+0100
END:STANDARD
END:VTIMEZONE
END:VCALENDAR
