BEGIN:VCALENDAR
VERSION:2.0
PRODID:-//Plone.org//NONSGML plone.app.event//EN
X-WR-TIMEZONE:Europe/Berlin
BEGIN:VEVENT
SUMMARY:McKenzie Wark-en 'Maitasuna eta dirua\, sexua eta heriotza'\, Iru
 ñean
DTSTART;TZID=Europe/Berlin;VALUE=DATE-TIME:20241122T190000
DTSTAMP;VALUE=DATE-TIME:20260425T190236Z
UID:1f27e855d6894d8aa1025572261a89bf@eizievarnish
CATEGORIES:Irakurle taldeak
CREATED;VALUE=DATE-TIME:20241025T140954Z
LAST-MODIFIED;VALUE=DATE-TIME:20241111T095955Z
LOCATION:Katakrak liburu-denda\, Iruñea
URL:https://eizie.eus/eu/agenda/mckenzie-wark-en-maitasuna-eta-dirua-sexua
 -eta-heriotza-memoria-bat-irunean
END:VEVENT
BEGIN:VTIMEZONE
TZID:Europe/Berlin
X-LIC-LOCATION:Europe/Berlin
BEGIN:STANDARD
DTSTART;VALUE=DATE-TIME:20241027T020000
TZNAME:CET
TZOFFSETFROM:+0200
TZOFFSETTO:+0100
END:STANDARD
END:VTIMEZONE
END:VCALENDAR
