BEGIN:VCALENDAR
VERSION:2.0
PRODID:-//Plone.org//NONSGML plone.app.event//EN
X-WR-TIMEZONE:Europe/Berlin
BEGIN:VEVENT
SUMMARY:McKenzie Wark-en 'Maitasuna eta dirua\, sexua eta heriotza' - Libu
 ruaren aurkezpena
DTSTART;TZID=Europe/Berlin;VALUE=DATE-TIME:20241209T190000
DTSTAMP;VALUE=DATE-TIME:20260425T190236Z
UID:6a5d75954a1e4854b8d2c095b0a15a59@eizievarnish
CATEGORIES:Ekitaldiak
CREATED;VALUE=DATE-TIME:20241127T092712Z
LAST-MODIFIED;VALUE=DATE-TIME:20241127T092731Z
LOCATION:Katakrak liburu-denda\, Iruñea
URL:https://eizie.eus/eu/agenda/mckenzie-wark-en-maitasuna-eta-dirua-sexua
 -eta-heriotza-liburuaren-aurkezpena
END:VEVENT
BEGIN:VTIMEZONE
TZID:Europe/Berlin
X-LIC-LOCATION:Europe/Berlin
BEGIN:STANDARD
DTSTART;VALUE=DATE-TIME:20241027T020000
TZNAME:CET
TZOFFSETFROM:+0200
TZOFFSETTO:+0100
END:STANDARD
END:VTIMEZONE
END:VCALENDAR
