BEGIN:VCALENDAR
VERSION:2.0
PRODID:-//Plone.org//NONSGML plone.app.event//EN
X-WR-TIMEZONE:Europe/Berlin
BEGIN:VEVENT
SUMMARY:May Ayim-en lanaren irakurketa eta azterketa\, Azpeitian
DTSTART;TZID=Europe/Berlin;VALUE=DATE-TIME:20240918T190000
DTSTAMP;VALUE=DATE-TIME:20260423T205249Z
UID:c049ccefd8a542e3bc40987bad993884@eizieplone
CATEGORIES:Irakurle taldeak
CREATED;VALUE=DATE-TIME:20240918T095949Z
LAST-MODIFIED;VALUE=DATE-TIME:20240918T100006Z
URL:https://eizie.eus/eu/agenda/may-ayim-en-lanaren-irakurketa-eta-azterke
 ta-azpeitian
END:VEVENT
BEGIN:VTIMEZONE
TZID:Europe/Berlin
X-LIC-LOCATION:Europe/Berlin
BEGIN:DAYLIGHT
DTSTART;VALUE=DATE-TIME:20240331T030000
TZNAME:CEST
TZOFFSETFROM:+0100
TZOFFSETTO:+0200
END:DAYLIGHT
END:VTIMEZONE
END:VCALENDAR
