BEGIN:VCALENDAR
VERSION:2.0
PRODID:-//Plone.org//NONSGML plone.app.event//EN
X-WR-TIMEZONE:Europe/Berlin
BEGIN:VEVENT
SUMMARY:Marlen Haushofer-en 'Horma'\, Tafallan
DTSTART;TZID=Europe/Berlin;VALUE=DATE-TIME:20241015T190000
DTSTAMP;VALUE=DATE-TIME:20260423T190020Z
UID:e6e30e1e0c49479eb003d259740416cc@eizieplone
CATEGORIES:Irakurle taldeak
CREATED;VALUE=DATE-TIME:20241014T092200Z
LAST-MODIFIED;VALUE=DATE-TIME:20241014T092213Z
LOCATION:Tafallako Liburutegia
URL:https://eizie.eus/eu/agenda/marlen-haushofer-en-horma-tafallan
END:VEVENT
BEGIN:VTIMEZONE
TZID:Europe/Berlin
X-LIC-LOCATION:Europe/Berlin
BEGIN:DAYLIGHT
DTSTART;VALUE=DATE-TIME:20240331T030000
TZNAME:CEST
TZOFFSETFROM:+0100
TZOFFSETTO:+0200
END:DAYLIGHT
END:VTIMEZONE
END:VCALENDAR
