BEGIN:VCALENDAR
VERSION:2.0
PRODID:-//Plone.org//NONSGML plone.app.event//EN
X-WR-TIMEZONE:Europe/Berlin
BEGIN:VEVENT
SUMMARY:Marlen Haushofer-en 'Horma'\, Lekeition
DTSTART;TZID=Europe/Berlin;VALUE=DATE-TIME:20240716T190000
DTSTAMP;VALUE=DATE-TIME:20260425T204613Z
UID:749ed2925c444bbb8f7b554a7bf7644a@eizievarnish
CATEGORIES:Irakurle taldeak
CREATED;VALUE=DATE-TIME:20240712T075432Z
LAST-MODIFIED;VALUE=DATE-TIME:20240712T075442Z
LOCATION:Kultur etxea
URL:https://eizie.eus/eu/agenda/marlen-haushofer-en-horma-lekeition
END:VEVENT
BEGIN:VTIMEZONE
TZID:Europe/Berlin
X-LIC-LOCATION:Europe/Berlin
BEGIN:DAYLIGHT
DTSTART;VALUE=DATE-TIME:20240331T030000
TZNAME:CEST
TZOFFSETFROM:+0100
TZOFFSETTO:+0200
END:DAYLIGHT
END:VTIMEZONE
END:VCALENDAR
