BEGIN:VCALENDAR
VERSION:2.0
PRODID:-//Plone.org//NONSGML plone.app.event//EN
X-WR-TIMEZONE:Europe/Berlin
BEGIN:VEVENT
SUMMARY:Marlen Haushofer-en 'Horma'\, Gasteizen
DTSTART;TZID=Europe/Berlin;VALUE=DATE-TIME:20241128T193000
DTSTAMP;VALUE=DATE-TIME:20260425T185036Z
UID:cf7a0d9e82e44ef1857b11c83415be9c@eizievarnish
CATEGORIES:Irakurle taldeak
CREATED;VALUE=DATE-TIME:20241125T103618Z
LAST-MODIFIED;VALUE=DATE-TIME:20241125T103624Z
LOCATION:Ignacio Aldekoa Kultur etxea\, Gasteiz
URL:https://eizie.eus/eu/agenda/marlen-haushofer-en-horma-gasteizen
END:VEVENT
BEGIN:VTIMEZONE
TZID:Europe/Berlin
X-LIC-LOCATION:Europe/Berlin
BEGIN:STANDARD
DTSTART;VALUE=DATE-TIME:20241027T020000
TZNAME:CET
TZOFFSETFROM:+0200
TZOFFSETTO:+0100
END:STANDARD
END:VTIMEZONE
END:VCALENDAR
