BEGIN:VCALENDAR
VERSION:2.0
PRODID:-//Plone.org//NONSGML plone.app.event//EN
X-WR-TIMEZONE:Europe/Berlin
BEGIN:VEVENT
SUMMARY:Marlen Haushofer-en 'Horma'\, Bilbon
DTSTART;TZID=Europe/Berlin;VALUE=DATE-TIME:20240611T190000
DTSTAMP;VALUE=DATE-TIME:20260425T204613Z
UID:3f38075c75c4490cab2b684c17139c49@eizievarnish
CATEGORIES:Irakurle taldeak
CREATED;VALUE=DATE-TIME:20240607T112816Z
LAST-MODIFIED;VALUE=DATE-TIME:20240607T112924Z
LOCATION:Erronda kalea\, 2
URL:https://eizie.eus/eu/agenda/marlen-haushofer-en-horma-bilbon
END:VEVENT
BEGIN:VTIMEZONE
TZID:Europe/Berlin
X-LIC-LOCATION:Europe/Berlin
BEGIN:DAYLIGHT
DTSTART;VALUE=DATE-TIME:20240331T030000
TZNAME:CEST
TZOFFSETFROM:+0100
TZOFFSETTO:+0200
END:DAYLIGHT
END:VTIMEZONE
END:VCALENDAR
