BEGIN:VCALENDAR
VERSION:2.0
PRODID:-//Plone.org//NONSGML plone.app.event//EN
X-WR-TIMEZONE:Europe/Berlin
BEGIN:VEVENT
SUMMARY:Mario Calabresiren 'Gaua harago bultzatuz' - Aurkezpena\, Donostia
 n
DTSTART;TZID=Europe/Berlin;VALUE=DATE-TIME:20250709T103000
DTSTAMP;VALUE=DATE-TIME:20260425T205444Z
UID:261b9bb775d541a1a8ef71bdc171a6fb@eizievarnish
CATEGORIES:Ekitaldiak
CREATED;VALUE=DATE-TIME:20250702T130716Z
LAST-MODIFIED;VALUE=DATE-TIME:20250708T124115Z
LOCATION:Donostiako Udal Liburutegia
URL:https://eizie.eus/eu/agenda/mario-calabresiren-gaua-harago-bultzatuz-a
 urkezpena-donostian
END:VEVENT
BEGIN:VTIMEZONE
TZID:Europe/Berlin
X-LIC-LOCATION:Europe/Berlin
BEGIN:DAYLIGHT
DTSTART;VALUE=DATE-TIME:20250330T030000
TZNAME:CEST
TZOFFSETFROM:+0100
TZOFFSETTO:+0200
END:DAYLIGHT
END:VTIMEZONE
END:VCALENDAR
