BEGIN:VCALENDAR
VERSION:2.0
PRODID:-//Plone.org//NONSGML plone.app.event//EN
X-WR-TIMEZONE:Europe/Berlin
BEGIN:VEVENT
SUMMARY:Mariana Travacioren 'Barkamena existituko balitz bezala'\, Leioan
DTSTART;TZID=Europe/Berlin;VALUE=DATE-TIME:20241120T180000
DTSTAMP;VALUE=DATE-TIME:20260425T185723Z
UID:0ebc168abc4e4f56b915e18e1b912a33@eizievarnish
CATEGORIES:Irakurle taldeak
CREATED;VALUE=DATE-TIME:20241120T082411Z
LAST-MODIFIED;VALUE=DATE-TIME:20241120T083248Z
LOCATION:Leioako Liburutegia
URL:https://eizie.eus/eu/agenda/mariana-travacioren-barkamena-existituko-b
 alitz-bezala-leioa
END:VEVENT
BEGIN:VTIMEZONE
TZID:Europe/Berlin
X-LIC-LOCATION:Europe/Berlin
BEGIN:STANDARD
DTSTART;VALUE=DATE-TIME:20241027T020000
TZNAME:CET
TZOFFSETFROM:+0200
TZOFFSETTO:+0100
END:STANDARD
END:VTIMEZONE
END:VCALENDAR
