BEGIN:VCALENDAR
VERSION:2.0
PRODID:-//Plone.org//NONSGML plone.app.event//EN
X-WR-TIMEZONE:Europe/Berlin
BEGIN:VEVENT
SUMMARY:Margarita Nafarroakoaren 'Heptamerona'ren irakurraldia
DTSTART;TZID=Europe/Berlin;VALUE=DATE-TIME:20241005T103000
DTSTAMP;VALUE=DATE-TIME:20260423T192116Z
UID:25e0200f1d7245518bd778f8a539bf0b@eizieplone
CREATED;VALUE=DATE-TIME:20241004T084124Z
LAST-MODIFIED;VALUE=DATE-TIME:20241004T084129Z
LOCATION:Zangotzako ikastola
URL:https://eizie.eus/eu/agenda/margarita-nafarroakoaren-heptameronaren-ir
 akurraldia
END:VEVENT
BEGIN:VTIMEZONE
TZID:Europe/Berlin
X-LIC-LOCATION:Europe/Berlin
BEGIN:DAYLIGHT
DTSTART;VALUE=DATE-TIME:20240331T030000
TZNAME:CEST
TZOFFSETFROM:+0100
TZOFFSETTO:+0200
END:DAYLIGHT
END:VTIMEZONE
END:VCALENDAR
