BEGIN:VCALENDAR
VERSION:2.0
PRODID:-//Plone.org//NONSGML plone.app.event//EN
X-WR-TIMEZONE:Europe/Berlin
BEGIN:VEVENT
SUMMARY:Maja Haderlap-en 'Ahanzturaren aingerua' - Aurkezpena
DTSTART;TZID=Europe/Berlin;VALUE=DATE-TIME:20250930T113000
DTSTAMP;VALUE=DATE-TIME:20260425T205035Z
UID:53f425c6b99441d0939bfaea54162546@eizievarnish
CATEGORIES:Ekitaldiak
CREATED;VALUE=DATE-TIME:20250929T142540Z
LAST-MODIFIED;VALUE=DATE-TIME:20250929T142553Z
LOCATION:Donostiako udal-liburutegia\, Konstituzio plaza\, 1
URL:https://eizie.eus/eu/agenda/maja-haderlap-en-ahanzturaren-aingerua-aur
 kezpena
END:VEVENT
BEGIN:VTIMEZONE
TZID:Europe/Berlin
X-LIC-LOCATION:Europe/Berlin
BEGIN:DAYLIGHT
DTSTART;VALUE=DATE-TIME:20250330T030000
TZNAME:CEST
TZOFFSETFROM:+0100
TZOFFSETTO:+0200
END:DAYLIGHT
END:VTIMEZONE
END:VCALENDAR
